BEGIN:VCALENDAR
VERSION:2.0
PRODID:-//kabukiman//horaro//EN
CALSCALE:GREGORIAN
X-WR-CALNAME:2a Maratona ShmupsBR! 2a Maratona ShmupsBR!
X-PUBLISHED-TTL:PT15M
BEGIN:VEVENT
DTSTART:20240706T123000Z
DTEND:20240706T130000Z
DTSTAMP:20260407T181339Z
UID:shmupsbr2024_shmupsbr2024_0d5b7gdesje0u348c7@horaro.org
SUMMARY:Abertura do Evento
DESCRIPTION:Piloto: Filipe (ShmupsBR)\nPlataforma: --\nPaís: Brasil / UK
CLASS:PUBLIC
END:VEVENT
BEGIN:VEVENT
DTSTART:20240706T130500Z
DTEND:20240706T142500Z
DTSTAMP:20260407T181339Z
UID:shmupsbr2024_shmupsbr2024_635b8n48zpbfjr48b4@horaro.org
SUMMARY:Super Aleste / Space Megaforce
DESCRIPTION:Piloto: Luy_BR\nPlataforma: SNES\nPaís: Brasil
CLASS:PUBLIC
END:VEVENT
BEGIN:VEVENT
DTSTART:20240706T143000Z
DTEND:20240706T153000Z
DTSTAMP:20260407T181339Z
UID:shmupsbr2024_shmupsbr2024_0c5bi224v91ed3488a@horaro.org
SUMMARY:Fix Eight
DESCRIPTION:Piloto: Julio "Kronos" Chiarini\nPlataforma: PC/Steam\nPaís: 
 Brasil
CLASS:PUBLIC
END:VEVENT
BEGIN:VEVENT
DTSTART:20240706T153500Z
DTEND:20240706T163500Z
DTSTAMP:20260407T181339Z
UID:shmupsbr2024_shmupsbr2024_565b9zbara4e2o4825@horaro.org
SUMMARY:Genetos + Osorubeshi! Xaklogian
DESCRIPTION:Piloto: DRK\nPlataforma: PC/Steam\nPaís: Brasil
CLASS:PUBLIC
END:VEVENT
BEGIN:VEVENT
DTSTART:20240706T164000Z
DTEND:20240706T171000Z
DTSTAMP:20260407T181339Z
UID:shmupsbr2024_shmupsbr2024_635b3296rq2dmr487b@horaro.org
SUMMARY:G-Darius HD
DESCRIPTION:Piloto: Mandaloris\nPlataforma: PC/Steam\nPaís: Brasil
CLASS:PUBLIC
END:VEVENT
BEGIN:VEVENT
DTSTART:20240706T171500Z
DTEND:20240706T180000Z
DTSTAMP:20260407T181339Z
UID:shmupsbr2024_shmupsbr2024_645bfmfdlr960s4837@horaro.org
SUMMARY:Touhou 7: Perfect Cherry Blossom
DESCRIPTION:Piloto: Khael\nPlataforma: PC/Steam\nPaís: Brasil
CLASS:PUBLIC
END:VEVENT
BEGIN:VEVENT
DTSTART:20240706T180500Z
DTEND:20240706T190000Z
DTSTAMP:20260407T181339Z
UID:shmupsbr2024_shmupsbr2024_585bzz6frc6bjo48bf@horaro.org
SUMMARY:Gradius 3
DESCRIPTION:Piloto: Retrocheats\nPlataforma: SNES\nPaís: Brasil
CLASS:PUBLIC
END:VEVENT
BEGIN:VEVENT
DTSTART:20240706T190500Z
DTEND:20240706T194500Z
DTSTAMP:20260407T181339Z
UID:shmupsbr2024_shmupsbr2024_595b8s01n2fdpo48e8@horaro.org
SUMMARY:Dimension Tripper Neptune: TOP NEP + Otomedius
DESCRIPTION:Piloto: NeloRosso\nPlataforma: PC/Steam/Arcade\nPaís: Brasil
CLASS:PUBLIC
END:VEVENT
BEGIN:VEVENT
DTSTART:20240706T195000Z
DTEND:20240706T205000Z
DTSTAMP:20260407T181339Z
UID:shmupsbr2024_shmupsbr2024_625bmifd3s5cgr48ce@horaro.org
SUMMARY:Aleste 2
DESCRIPTION:Piloto: Paulo PV Radtke\nPlataforma: MSX2\nPaís: Canadá
CLASS:PUBLIC
END:VEVENT
BEGIN:VEVENT
DTSTART:20240706T205500Z
DTEND:20240706T215500Z
DTSTAMP:20260407T181339Z
UID:shmupsbr2024_shmupsbr2024_0f5bsgd91b3ae4482c@horaro.org
SUMMARY:Caravan Mode: Raging Blasters + Terra Flame
DESCRIPTION:Piloto: AdneyBR\nPlataforma: PC/Steam\nPaís: Brasil
CLASS:PUBLIC
END:VEVENT
BEGIN:VEVENT
DTSTART:20240706T220000Z
DTEND:20240706T224000Z
DTSTAMP:20260407T181339Z
UID:shmupsbr2024_shmupsbr2024_655bdk488pca3s489d@horaro.org
SUMMARY:Touhou 8: Imperishable Night
DESCRIPTION:Piloto: Gratito\nPlataforma: PC/Steam\nPaís: Brasil
CLASS:PUBLIC
END:VEVENT
BEGIN:VEVENT
DTSTART:20240706T224500Z
DTEND:20240706T234500Z
DTSTAMP:20260407T181339Z
UID:shmupsbr2024_shmupsbr2024_585b6jbada99mo4802@horaro.org
SUMMARY:Deathsmiles
DESCRIPTION:Piloto: NoobFighter\nPlataforma: Arcade\nPaís: Brasil
CLASS:PUBLIC
END:VEVENT
BEGIN:VEVENT
DTSTART:20240706T235000Z
DTEND:20240707T003500Z
DTSTAMP:20260407T181339Z
UID:shmupsbr2024_shmupsbr2024_0e5bfd24t9a9x348f3@horaro.org
SUMMARY:Ultimate Ecology (Eco Fighters)
DESCRIPTION:Piloto: Third_Strike\nPlataforma: Arcade\nPaís: Brasil
CLASS:PUBLIC
END:VEVENT
BEGIN:VEVENT
DTSTART:20240707T004000Z
DTEND:20240707T012000Z
DTSTAMP:20260407T181339Z
UID:shmupsbr2024_shmupsbr2024_655b8m96cq786s4860@horaro.org
SUMMARY:Repulse
DESCRIPTION:Piloto: INNUENDO\nPlataforma: Arcade\nPaís: Brasil
CLASS:PUBLIC
END:VEVENT
BEGIN:VEVENT
DTSTART:20240707T012500Z
DTEND:20240707T020500Z
DTSTAMP:20260407T181339Z
UID:shmupsbr2024_shmupsbr2024_5b5bhk003z088p48d1@horaro.org
SUMMARY:Darwin 4078
DESCRIPTION:Piloto: MORENO@TeamBrazil\nPlataforma: Arcade\nPaís: Brasil
CLASS:PUBLIC
END:VEVENT
BEGIN:VEVENT
DTSTART:20240707T021000Z
DTEND:20240707T022000Z
DTSTAMP:20260407T181339Z
UID:shmupsbr2024_shmupsbr2024_5a5bce6faca63p48a4@horaro.org
SUMMARY:Encerramento
DESCRIPTION:Piloto: Filipe (ShmupsBR)\nPlataforma: --\nPaís: Brasil / UK
CLASS:PUBLIC
END:VEVENT
END:VCALENDAR
